BEGIN:VCALENDAR
VERSION:2.0
CALSCALE:GREGORIAN
PRODID:-//Diputació de Barcelona//DibaCMS//EN
BEGIN:VEVENT
UID:1953
DTSTAMP:20260426T005139
DTSTART:20210508T110000
DTEND:20210508T130000
SUMMARY:Les escultures de Monistrol ens parlen
LOCATION:Plaça de la Pedrera 08275 Monistrol de Calders
METHOD:PUBLISH
X-WR-CALNAME:monistrolc@monistroldecalders.cat
X-WR-TIMEZONE:Europe/Madrid
DESCRIPTION:Visita guiada a algunes de les escultures de la col·lecció Fèlix Estrada Saladich. 

URI:https://www.monistroldecalders.cat/actualitat/agenda/1953-les-escultures-de-monistrol-ens-parlen.html
CLASS:PUBLIC
END:VEVENT
END:VCALENDAR
