BEGIN:VCALENDAR
VERSION:2.0
CALSCALE:GREGORIAN
PRODID:-//Diputació de Barcelona//DibaCMS//EN
BEGIN:VEVENT
UID:1971
DTSTAMP:20260425T232746
DTSTART:20210529T110000
DTEND:20210529T130000
SUMMARY:Aigua i natura de Monistrol de Calders
LOCATION:
METHOD:PUBLISH
X-WR-CALNAME:monistrolc@monistroldecalders.cat
X-WR-TIMEZONE:Europe/Madrid
DESCRIPTION:L'aprofitament de la Riera de Sant Joan.

URI:https://www.monistroldecalders.cat/actualitat/agenda/aigua-i-natura-de-monistrol-de-calders.html
CLASS:PUBLIC
END:VEVENT
END:VCALENDAR
