BEGIN:VCALENDAR
VERSION:2.0
CALSCALE:GREGORIAN
PRODID:-//Diputació de Barcelona//DibaCMS//EN
BEGIN:VEVENT
UID:2032
DTSTAMP:20260426T021339
DTSTART:20211018T172500
DTEND:20211018T200000
SUMMARY:XI Jornades d’horts escolars ecològics
LOCATION:
METHOD:PUBLISH
X-WR-CALNAME:monistrolc@monistroldecalders.cat
X-WR-TIMEZONE:Europe/Madrid
DESCRIPTION:El compostatge és una activitat lligada a l’hort ecològic. Permet tancar el cicle de la matèria orgànica aprofitant els residus de l’hort per a obtenir un fertilitzant de gran qualitat. A l’escola ajuda a ensenyar de forma pràctica conceptes tan importants com el reciclatge o els cicles naturals. Però  per a obtenir un bon compost sense problemes cal tenir en compte alguns aspectes bàsics.
 

URI:https://www.monistroldecalders.cat/actualitat/agenda/xi-jornades-dhorts-escolars-ecologics.html
CLASS:PUBLIC
END:VEVENT
END:VCALENDAR
