BEGIN:VCALENDAR
VERSION:2.0
CALSCALE:GREGORIAN
PRODID:-//Diputació de Barcelona//DibaCMS//EN
BEGIN:VEVENT
UID:2033
DTSTAMP:20260426T052850
DTSTART:20211011T173000
DTEND:20211227T190000
SUMMARY:Grup de Suport Emocional i Ajuda Mútua (GSAM)
LOCATION:SALA PETITA 
HORARI: de 17:30 a 19 de la tarda 
METHOD:PUBLISH
X-WR-CALNAME:monistrolc@monistroldecalders.cat
X-WR-TIMEZONE:Europe/Madrid
DESCRIPTION:L’objectiu general del Grup de Suport Emocional i Ajuda Mútua és millorar la qualitat de vida de les persones cuidadores no professionals i de les persones en situació de dependència, discapacitat i salut mental.

URI:https://www.monistroldecalders.cat/actualitat/agenda/grup-de-suport-emocional-i-ajuda-mutua-gsam.html
CLASS:PUBLIC
END:VEVENT
END:VCALENDAR
