BEGIN:VCALENDAR
VERSION:2.0
CALSCALE:GREGORIAN
PRODID:-//Diputació de Barcelona//DibaCMS//EN
BEGIN:VEVENT
UID:2299
DTSTAMP:20260426T011242
DTSTART:20231101T170000
DTEND:20231101T200000
SUMMARY:ESCAPE ROOM
LOCATION:
METHOD:PUBLISH
X-WR-CALNAME:monistrolc@monistroldecalders.cat
X-WR-TIMEZONE:Europe/Madrid
DESCRIPTION:
URI:https://www.monistroldecalders.cat/actualitat/agenda/escape-room.html
CLASS:PUBLIC
END:VEVENT
END:VCALENDAR
