BEGIN:VCALENDAR
VERSION:2.0
CALSCALE:GREGORIAN
PRODID:-//Diputació de Barcelona//DibaCMS//EN
BEGIN:VEVENT
UID:2308
DTSTAMP:20260426T011210
DTSTART:20231208T120000
DTEND:20231208T140000
SUMMARY:ON ÉS EL TIÓ 
LOCATION:Plaça Nova 08275 Monistrol de Calders
METHOD:PUBLISH
X-WR-CALNAME:monistrolc@monistroldecalders.cat
X-WR-TIMEZONE:Europe/Madrid
DESCRIPTION:Sense Tió no pot començar el Nadal 

Vine i entre tots i totes el trobarem!!!

URI:https://www.monistroldecalders.cat/actualitat/agenda/on-es-el-tio-.html
CLASS:PUBLIC
END:VEVENT
END:VCALENDAR
