BEGIN:VCALENDAR
VERSION:2.0
CALSCALE:GREGORIAN
PRODID:-//Diputació de Barcelona//DibaCMS//EN
BEGIN:VEVENT
UID:2309
DTSTAMP:20260426T012500
DTSTART:20231206T110000
DTEND:20231206T130000
SUMMARY:TIR AMB ARCA A CÀREC D'ANIGAMI
LOCATION:Camp de Futbol, s/n 08275 Monistrol de Calders
METHOD:PUBLISH
X-WR-CALNAME:monistrolc@monistroldecalders.cat
X-WR-TIMEZONE:Europe/Madrid
DESCRIPTION:Menors de 12 anys cal que vinguin acompanyats d'un adult 

Inscripcióprèvia a 621239002 o dinamitzaciocomunitariamdc@gmail.com

URI:https://www.monistroldecalders.cat/actualitat/agenda/tir-amb-arca-a-carec-danigami.html
CLASS:PUBLIC
END:VEVENT
END:VCALENDAR
