BEGIN:VCALENDAR
VERSION:2.0
CALSCALE:GREGORIAN
PRODID:-//Diputació de Barcelona//DibaCMS//EN
BEGIN:VEVENT
UID:7850
DTSTAMP:20260425T232807
DTSTART:20240619T120000
DTEND:20240619T130000
SUMMARY:Oficina mòbil d' informació al consumidor 
LOCATION:
METHOD:PUBLISH
X-WR-CALNAME:monistrolc@monistroldecalders.cat
X-WR-TIMEZONE:Europe/Madrid
DESCRIPTION:
URI:https://www.monistroldecalders.cat/actualitat/agenda/oficina-mobil-d-informacio-al-consumidor-.html
CLASS:PUBLIC
END:VEVENT
END:VCALENDAR
