BEGIN:VCALENDAR
VERSION:2.0
CALSCALE:GREGORIAN
PRODID:-//Diputació de Barcelona//DibaCMS//EN
BEGIN:VEVENT
UID:7892
DTSTAMP:20260426T040441
DTSTART:20241213T105000
DTEND:20241213T115000
SUMMARY:Banca mòbil de Catalunya 
LOCATION:
METHOD:PUBLISH
X-WR-CALNAME:monistrolc@monistroldecalders.cat
X-WR-TIMEZONE:Europe/Madrid
DESCRIPTION:
URI:https://www.monistroldecalders.cat/actualitat/agenda/banca-mobil-de-catalunya-.html
CLASS:PUBLIC
END:VEVENT
END:VCALENDAR
