BEGIN:VCALENDAR
VERSION:2.0
CALSCALE:GREGORIAN
PRODID:-//Diputació de Barcelona//DibaCMS//EN
BEGIN:VEVENT
UID:7908
DTSTAMP:20260426T005011
DTSTART:20250122T000000
DTEND:20250122T000000
SUMMARY:Horari banca mòbil de Catalunya
LOCATION:
METHOD:PUBLISH
X-WR-CALNAME:monistrolc@monistroldecalders.cat
X-WR-TIMEZONE:Europe/Madrid
DESCRIPTION:
URI:https://www.monistroldecalders.cat/actualitat/agenda/horari-banca-mobil-de-catalunya.html
CLASS:PUBLIC
END:VEVENT
END:VCALENDAR
