BEGIN:VCALENDAR
VERSION:2.0
CALSCALE:GREGORIAN
PRODID:-//Diputació de Barcelona//DibaCMS//EN
BEGIN:VEVENT
UID:7944
DTSTAMP:20260426T021452
DTSTART:20250623T111500
DTEND:20250623T123000
SUMMARY:BANCA MOBIL CAIXA BANC
LOCATION:
METHOD:PUBLISH
X-WR-CALNAME:monistrolc@monistroldecalders.cat
X-WR-TIMEZONE:Europe/Madrid
DESCRIPTION:
URI:https://www.monistroldecalders.cat/actualitat/agenda/banca-mobil-caixa-banc.html
CLASS:PUBLIC
END:VEVENT
END:VCALENDAR
