BEGIN:VCALENDAR
VERSION:2.0
CALSCALE:GREGORIAN
PRODID:-//Diputació de Barcelona//DibaCMS//EN
BEGIN:VEVENT
UID:7947
DTSTAMP:20260425T205127
DTSTART:20250629T180000
DTEND:20250629T203000
SUMMARY:CLUB DE LECTURA
LOCATION:
METHOD:PUBLISH
X-WR-CALNAME:monistrolc@monistroldecalders.cat
X-WR-TIMEZONE:Europe/Madrid
DESCRIPTION:18:00 a 19:30 Taller d'escriptura a càrrec de l'escriptora de Laia Fàbregas

19:30 Club de lectura  el Silenci dels astronautes 

URI:https://www.monistroldecalders.cat/actualitat/agenda/club-de-lectura.html
CLASS:PUBLIC
END:VEVENT
END:VCALENDAR
