BEGIN:VCALENDAR
VERSION:2.0
CALSCALE:GREGORIAN
PRODID:-//Diputació de Barcelona//DibaCMS//EN
BEGIN:VEVENT
UID:7954
DTSTAMP:20260425T221233
DTSTART:20250711T000000
DTEND:20250711T000000
SUMMARY:Banca Mòbil 
LOCATION:
METHOD:PUBLISH
X-WR-CALNAME:monistrolc@monistroldecalders.cat
X-WR-TIMEZONE:Europe/Madrid
DESCRIPTION:Dia 14 de juliol de 8:30 a 9:30

URI:https://www.monistroldecalders.cat/actualitat/agenda/banca-mobil-.html
CLASS:PUBLIC
END:VEVENT
END:VCALENDAR
