BEGIN:VCALENDAR
VERSION:2.0
CALSCALE:GREGORIAN
PRODID:-//Diputació de Barcelona//DibaCMS//EN
BEGIN:VEVENT
UID:7968
DTSTAMP:20260425T204608
DTSTART:20251017T093000
DTEND:20251212T120000
SUMMARY:Grup de dones del Moianès
LOCATION:
METHOD:PUBLISH
X-WR-CALNAME:monistrolc@monistroldecalders.cat
X-WR-TIMEZONE:Europe/Madrid
DESCRIPTION:Un espai de suport mutu, descobriment del nostre món interior, autocura i estratègies per millorar el nostre benestar emocional.

URI:https://www.monistroldecalders.cat/actualitat/agenda/grup-de-dones-del-moianes.html
CLASS:PUBLIC
END:VEVENT
END:VCALENDAR
