BEGIN:VCALENDAR
VERSION:2.0
CALSCALE:GREGORIAN
PRODID:-//Diputació de Barcelona//DibaCMS//EN
BEGIN:VEVENT
UID:7969
DTSTAMP:20260426T034058
DTSTART:20251002T000000
DTEND:20251231T000000
SUMMARY:Vols fer ganxet o mitja
LOCATION:
METHOD:PUBLISH
X-WR-CALNAME:monistrolc@monistroldecalders.cat
X-WR-TIMEZONE:Europe/Madrid
DESCRIPTION:Vine a compartir una estona creativa i agradable amb nosaltres!

Cada dijous de 5 a 7 de la tarda.

URI:https://www.monistroldecalders.cat/actualitat/agenda/vols-fer-ganxet-o-mitja.html
CLASS:PUBLIC
END:VEVENT
END:VCALENDAR
