BEGIN:VCALENDAR
VERSION:2.0
CALSCALE:GREGORIAN
PRODID:-//Diputació de Barcelona//DibaCMS//EN
BEGIN:VEVENT
UID:7975
DTSTAMP:20260426T035115
DTSTART:20251121T100000
DTEND:20251128T100000
SUMMARY:Banca mòbil
LOCATION:
METHOD:PUBLISH
X-WR-CALNAME:monistrolc@monistroldecalders.cat
X-WR-TIMEZONE:Europe/Madrid
DESCRIPTION:Dia 24 de novembre de 2025

Hora :11:15 a 12:30 

Lloc : Avinguda Pere Tarrés 

URI:https://www.monistroldecalders.cat/actualitat/agenda/banca-mobil.html
CLASS:PUBLIC
END:VEVENT
END:VCALENDAR
